BEGIN:VCALENDAR
VERSION:2.0
PRODID:icalendar-ruby
CALSCALE:GREGORIAN
METHOD:PUBLISH
BEGIN:VEVENT
DTSTAMP:20260424T084445Z
UID:21-415386@newmanna.tithelysetup5.com
DTSTART:20260824T010000Z
DTEND:20261005T020000Z
CLASS:PUBLIC
CREATED:20260423T200117
DESCRIPTION:
LAST-MODIFIED:20260423T200117
LOCATION:3824 Wembley Ave Moss Point\, MS
SUMMARY:19th year Pastoral Anniversary 
URL;VALUE=URI:https://newmannainternationalministries.com/events/19th-year-
 pastoral-anniversary/2026-08-23
END:VEVENT
END:VCALENDAR
