BEGIN:VCALENDAR
VERSION:2.0
PRODID:icalendar-ruby
CALSCALE:GREGORIAN
METHOD:PUBLISH
BEGIN:VEVENT
DTSTAMP:20260424T132446Z
UID:21-415685@newmanna.tithelysetup5.com
DTSTART:20260914T010000Z
DTEND:20261026T020000Z
CLASS:PUBLIC
CREATED:20260424T052927
DESCRIPTION:
LAST-MODIFIED:20260424T052927
LOCATION:3824 Wembley Ave Moss Point\, MS
SUMMARY:19th year Pastoral Anniversary 
URL;VALUE=URI:https://newmannainternationalministries.com/events/19th-year-
 pastoral-anniversary/2026-09-13
END:VEVENT
END:VCALENDAR
